BEGIN:VCALENDAR
VERSION:2.0
PRODID:-//wp-events-plugin.com//7.2.3.1//EN
TZID:Europe/Berlin
X-WR-TIMEZONE:Europe/Berlin
BEGIN:VEVENT
UID:4@hak-vorarlberg.at
DTSTART;TZID=Europe/Vienna:20260621T110000
DTEND;TZID=Europe/Vienna:20260621T220000
DTSTAMP:20251229T122534Z
URL:https://www.hak-vorarlberg.at/events/kulturfest-hak/
SUMMARY:Kulturfest - Heimat aller Kulturen
DESCRIPTION:Gemeinsam feiern und die Vielfalt erleben
END:VEVENT
BEGIN:VTIMEZONE
TZID:Europe/Vienna
X-LIC-LOCATION:Europe/Vienna
BEGIN:DAYLIGHT
DTSTART:20260329T030000
TZOFFSETFROM:+0100
TZOFFSETTO:+0200
TZNAME:CEST
END:DAYLIGHT
END:VTIMEZONE
END:VCALENDAR