BEGIN:VCALENDAR
VERSION:2.0
PRODID:-//wp-events-plugin.com//7.2.3.1//EN
TZID:Europe/Berlin
X-WR-TIMEZONE:Europe/Berlin
BEGIN:VEVENT
UID:3@hak-vorarlberg.at
DTSTART;TZID=Europe/Vienna:20260320T190000
DTEND;TZID=Europe/Vienna:20260320T210000
DTSTAMP:20251229T122534Z
URL:https://www.hak-vorarlberg.at/events/hak-mitgliederversammlung/
SUMMARY:HaK Mitgliederversammlung
DESCRIPTION:Jahresversammlung für alle Mitglieder
END:VEVENT
BEGIN:VTIMEZONE
TZID:Europe/Vienna
X-LIC-LOCATION:Europe/Vienna
BEGIN:STANDARD
DTSTART:20251026T020000
TZOFFSETFROM:+0200
TZOFFSETTO:+0100
TZNAME:CET
END:STANDARD
END:VTIMEZONE
END:VCALENDAR