BEGIN:VCALENDAR
VERSION:2.0
PRODID:-//wp-events-plugin.com//7.2.3.1//EN
TZID:Europe/Berlin
X-WR-TIMEZONE:Europe/Berlin
BEGIN:VEVENT
UID:1@hak-vorarlberg.at
DTSTART;TZID=Europe/Vienna:20260115T140000
DTEND;TZID=Europe/Vienna:20260115T170000
DTSTAMP:20251229T122511Z
URL:https://www.hak-vorarlberg.at/events/engel-ohne-fluegel-altersheim/
SUMMARY:Engel ohne Flügel - Besuch im Altersheim
DESCRIPTION:Regelmäßige Besuche bei Seniorinnen und Senioren
END:VEVENT
BEGIN:VTIMEZONE
TZID:Europe/Vienna
X-LIC-LOCATION:Europe/Vienna
BEGIN:STANDARD
DTSTART:20251026T020000
TZOFFSETFROM:+0200
TZOFFSETTO:+0100
TZNAME:CET
END:STANDARD
END:VTIMEZONE
END:VCALENDAR